Workbook

Sheet Rules
A1: Precision Landing Competition
B2: For the competition you can use your own or club glider, if you are not yet solo you can certainly do it with a winch rated instructor.
B3: The rules:
A4: 1 | B4: Each landing will be observed by a judge at the landing point. The judges word is final.
A5: 2 | B5: Any deemed to be heavy will receive no points. (So if you are going to have to plonk it down hard to hit the target you will receive no points, you might just as well do a tidy landing further down the field.)
A6: 3 | B6: A line will be marked down the field with a line across it marking the exact desired touch down point.
A7: 4 | B7: There is a pampas grass “fence” before the touch down point. Touching or brushing this is zero points. Wrecking the fence is a shout at the bar that evening!
A8: 5 | B8: The scoring is made up of two components. The accuracy to the line running down the field, and the accuracy to the line running across the field.
A9: 6 | B9: The main wheel is the wheel we are concerned with for points.
B11: Entry is free and the winner gets a certificate.
B12: This will be run each day as a separate competition.
B13: Besides the usual instructors and duty pilots, competitors and others will have to help tow gliders back to the launch point, wing run and judge and keep entries and record results..
B14: It would be handy to have two hand held radios to communicate between the touchdown area and the caravan on 133.55
B15: This is designed to be a fun day in the sun. I hope you all enjoy it.
B17: Cheers
B18: Bill Mace
B19: Club Captain
B20: (amended Dave Dennison)

Sheet Score Card
A1: Precision Landing Score Card
A5: Name | B5: Distance left or right of mark | C5: Distance past mark | D5: Total score
D7: =IF(C7<0,'Score weighting'!$F$7+'Score weighting'!$E$7*'Score Card'!C7^2,IF('Score Card'!C7=0,50,'Score weighting'!$F$4+'Score weighting'!$E$4*'Score Card'!C7^2))+IF(B7=0,50,'Score weighting'!$F$10+'Score weighting'!$E$10*'Score Card'!B7^2) -> 100
D8: =IF(C8<0,'Score weighting'!$F$7+'Score weighting'!$E$7*'Score Card'!C8^2,IF('Score Card'!C8=0,50,'Score weighting'!$F$4+'Score weighting'!$E$4*'Score Card'!C8^2))+IF(B8=0,50,'Score weighting'!$F$10+'Score weighting'!$E$10*'Score Card'!B8^2) -> 100
D9: =IF(C9<0,'Score weighting'!$F$7+'Score weighting'!$E$7*'Score Card'!C9^2,IF('Score Card'!C9=0,50,'Score weighting'!$F$4+'Score weighting'!$E$4*'Score Card'!C9^2))+IF(B9=0,50,'Score weighting'!$F$10+'Score weighting'!$E$10*'Score Card'!B9^2) -> 100
D10: =IF(C10<0,'Score weighting'!$F$7+'Score weighting'!$E$7*'Score Card'!C10^2,IF('Score Card'!C10=0,50,'Score weighting'!$F$4+'Score weighting'!$E$4*'Score Card'!C10^2))+IF(B10=0,50,'Score weighting'!$F$10+'Score weighting'!$E$10*'Score Card'!B10^2) -> 100
D11: =IF(C11<0,'Score weighting'!$F$7+'Score weighting'!$E$7*'Score Card'!C11^2,IF('Score Card'!C11=0,50,'Score weighting'!$F$4+'Score weighting'!$E$4*'Score Card'!C11^2))+IF(B11=0,50,'Score weighting'!$F$10+'Score weighting'!$E$10*'Score Card'!B11^2) -> 100
D12: =IF(C12<0,'Score weighting'!$F$7+'Score weighting'!$E$7*'Score Card'!C12^2,IF('Score Card'!C12=0,50,'Score weighting'!$F$4+'Score weighting'!$E$4*'Score Card'!C12^2))+IF(B12=0,50,'Score weighting'!$F$10+'Score weighting'!$E$10*'Score Card'!B12^2) -> 100
D13: =IF(C13<0,'Score weighting'!$F$7+'Score weighting'!$E$7*'Score Card'!C13^2,IF('Score Card'!C13=0,50,'Score weighting'!$F$4+'Score weighting'!$E$4*'Score Card'!C13^2))+IF(B13=0,50,'Score weighting'!$F$10+'Score weighting'!$E$10*'Score Card'!B13^2) -> 100
D14: =IF(C14<0,'Score weighting'!$F$7+'Score weighting'!$E$7*'Score Card'!C14^2,IF('Score Card'!C14=0,50,'Score weighting'!$F$4+'Score weighting'!$E$4*'Score Card'!C14^2))+IF(B14=0,50,'Score weighting'!$F$10+'Score weighting'!$E$10*'Score Card'!B14^2) -> 100
D15: =IF(C15<0,'Score weighting'!$F$7+'Score weighting'!$E$7*'Score Card'!C15^2,IF('Score Card'!C15=0,50,'Score weighting'!$F$4+'Score weighting'!$E$4*'Score Card'!C15^2))+IF(B15=0,50,'Score weighting'!$F$10+'Score weighting'!$E$10*'Score Card'!B15^2) -> 100
D16: =IF(C16<0,'Score weighting'!$F$7+'Score weighting'!$E$7*'Score Card'!C16^2,IF('Score Card'!C16=0,50,'Score weighting'!$F$4+'Score weighting'!$E$4*'Score Card'!C16^2))+IF(B16=0,50,'Score weighting'!$F$10+'Score weighting'!$E$10*'Score Card'!B16^2) -> 100
D17: =IF(C17<0,'Score weighting'!$F$7+'Score weighting'!$E$7*'Score Card'!C17^2,IF('Score Card'!C17=0,50,'Score weighting'!$F$4+'Score weighting'!$E$4*'Score Card'!C17^2))+IF(B17=0,50,'Score weighting'!$F$10+'Score weighting'!$E$10*'Score Card'!B17^2) -> 100
D18: =IF(C18<0,'Score weighting'!$F$7+'Score weighting'!$E$7*'Score Card'!C18^2,IF('Score Card'!C18=0,50,'Score weighting'!$F$4+'Score weighting'!$E$4*'Score Card'!C18^2))+IF(B18=0,50,'Score weighting'!$F$10+'Score weighting'!$E$10*'Score Card'!B18^2) -> 100
... D67: =IF(C67<0,'Score weighting'!$F$7+'Score weighting'!$E$7*'Score Card'!C67^2,IF('Score Card'!C67=0,50,'Score weighting'!$F$4+'Score weighting'!$E$4*'Score Card'!C67^2))+IF(B67=0,50,'Score weighting'!$F$10+'Score weighting'!$E$10*'Score Card'!B67^2) -> 100

Sheet Score weighting
B2: Distance | C2: Score | D2: Distance ^2 | E2: Slope | F2: Intercept
B3: Past Mark
B4: 0 | C4: 50 | D4: =B4^2 -> 0 | E4: =SLOPE(C4:C5,D4:D5) -> -0.055555556 | F4: =INTERCEPT(C4:C5,D4:D5) -> 50
B5: 30 | C5: 0 | D5: =B5^2 -> 900
B6: Short of Mark
B7: 0 | C7: 50 | D7: =B7^2 -> 0 | E7: =SLOPE(C7:C8,D7:D8) -> -2 | F7: =INTERCEPT(C7:C8,D7:D8) -> 50
B8: -5 | C8: 0 | D8: =B8^2 -> 25
B9: Lateral Offset
B10: 0 | C10: 50 | D10: =B10^2 -> 0 | E10: =SLOPE(C10:C11,D10:D11) -> -0.125 | F10: =INTERCEPT(C10:C11,D10:D11) -> 50
B11: 20 | C11: 0 | D11: =B11^2 -> 400
B14: Score = Intercept + Slope * Distance^2
C18: -5 | D18: =$F$7+$E$7*C18^2 -> 0 | F18: -20 | G18: =$F$10+$E$10*F18^2 -> 0
C19: -4.5 | D19: =$F$7+$E$7*C19^2 -> 9.5 | F19: -16 | G19: =$F$10+$E$10*F19^2 -> 18
C20: -4 | D20: =$F$7+$E$7*C20^2 -> 18 | F20: -12 | G20: =$F$10+$E$10*F20^2 -> 32
C21: -3.5 | D21: =$F$7+$E$7*C21^2 -> 25.5 | F21: -8 | G21: =$F$10+$E$10*F21^2 -> 42
C22: -3 | D22: =$F$7+$E$7*C22^2 -> 32 | F22: -4 | G22: =$F$10+$E$10*F22^2 -> 48
C23: -2.5 | D23: =$F$7+$E$7*C23^2 -> 37.5 | F23: 0 | G23: =$F$10+$E$10*F23^2 -> 50
C24: -2 | D24: =$F$7+$E$7*C24^2 -> 42 | F24: 4 | G24: =$F$10+$E$10*F24^2 -> 48
C25: -1.5 | D25: =$F$7+$E$7*C25^2 -> 45.5 | F25: 8 | G25: =$F$10+$E$10*F25^2 -> 42
C26: -1 | D26: =$F$7+$E$7*C26^2 -> 48 | F26: 12 | G26: =$F$10+$E$10*F26^2 -> 32
C27: -0.5 | D27: =$F$7+$E$7*C27^2 -> 49.5 | F27: 16 | G27: =$F$10+$E$10*F27^2 -> 18
C28: 0 | D28: =$F$7+$E$7*C28^2 -> 50 | F28: 20 | G28: =$F$10+$E$10*F28^2 -> 0
C30: 0 | D30: =$F$4+$E$4*C30^2 -> 50
C31: 3 | D31: =$F$4+$E$4*C31^2 -> 49.5
C32: 6 | D32: =$F$4+$E$4*C32^2 -> 48
C33: 9 | D33: =$F$4+$E$4*C33^2 -> 45.5
C34: 12 | D34: =$F$4+$E$4*C34^2 -> 42
C35: 15 | D35: =$F$4+$E$4*C35^2 -> 37.5
C36: 18 | D36: =$F$4+$E$4*C36^2 -> 32
C37: 21 | D37: =$F$4+$E$4*C37^2 -> 25.5
C38: 24 | D38: =$F$4+$E$4*C38^2 -> 18
C39: 27 | D39: =$F$4+$E$4*C39^2 -> 9.5
C40: 30 | D40: =$F$4+$E$4*C40^2 -> 0

Sheet Chart Data
A5: 100 | D5: 95 | G5: 90 | J5: 80 | M5: 60 | P5: 40 | S5: 20 | V5: 0
C6: Xmin | D6: =-1*((D$5-'Score weighting'!$F$7-'Score weighting'!$F$10)/'Score weighting'!$E$7)^0.5 -> -1.5811388 | G6: =-1*((G$5-'Score weighting'!$F$7-'Score weighting'!$F$10)/'Score weighting'!$E$7)^0.5 -> -2.236068 | J6: =-1*((J$5-'Score weighting'!$F$7-'Score weighting'!$F$10)/'Score weighting'!$E$7)^0.5 -> -3.1622777 | M6: =-1*((M$5-'Score weighting'!$F$7-'Score weighting'!$F$10)/'Score weighting'!$E$7)^0.5 -> -4.472136 | P6: =-1*((P$5-'Score weighting'!$F$7-'Score weighting'!$F$10)/'Score weighting'!$E$7)^0.5 -> -5.4772256 | S6: =-1*((S$5-'Score weighting'!$F$7-'Score weighting'!$F$10)/'Score weighting'!$E$7)^0.5 -> -6.3245553 | V6: =-1*((V$5-'Score weighting'!$F$7-'Score weighting'!$F$10)/'Score weighting'!$E$7)^0.5 -> -7.0710678
C7: Xmax | D7: =((D$5-'Score weighting'!$F$4-'Score weighting'!$F$10)/'Score weighting'!$E$4)^0.5 -> 9.486833 | G7: =((G$5-'Score weighting'!$F$4-'Score weighting'!$F$10)/'Score weighting'!$E$4)^0.5 -> 13.416408 | J7: =((J$5-'Score weighting'!$F$4-'Score weighting'!$F$10)/'Score weighting'!$E$4)^0.5 -> 18.973666 | M7: =((M$5-'Score weighting'!$F$4-'Score weighting'!$F$10)/'Score weighting'!$E$4)^0.5 -> 26.832816 | P7: =((P$5-'Score weighting'!$F$4-'Score weighting'!$F$10)/'Score weighting'!$E$4)^0.5 -> 32.863353 | S7: =((S$5-'Score weighting'!$F$4-'Score weighting'!$F$10)/'Score weighting'!$E$4)^0.5 -> 37.947332 | V7: =((V$5-'Score weighting'!$F$4-'Score weighting'!$F$10)/'Score weighting'!$E$4)^0.5 -> 42.426407
A10: 0 | B10: 0 | C10: 1e-06 | D10: =D$6-D$6/MAX($C10:$C20)*$C10 -> -1.5811387 | E10: =((D$5-'Score weighting'!$F$7-'Score weighting'!$F$10-'Score weighting'!$E$7*'Chart Data'!D10^2)/'Score weighting'!$E$10)^0.5 -> 0.0028284271 | G10: =G$6-G$6/MAX($C10:$C20)*$C10 -> -2.2360678 | H10: =((G$5-'Score weighting'!$F$7-'Score weighting'!$F$10-'Score weighting'!$E$7*'Chart Data'!G10^2)/'Score weighting'!$E$10)^0.5 -> 0.0039999999 | J10: =J$6-J$6/MAX($C10:$C20)*$C10 -> -3.1622773 | K10: =((J$5-'Score weighting'!$F$7-'Score weighting'!$F$10-'Score weighting'!$E$7*'Chart Data'!J10^2)/'Score weighting'!$E$10)^0.5 -> 0.0056568541 | M10: =M$6-M$6/MAX($C10:$C20)*$C10 -> -4.4721355 | N10: =((M$5-'Score weighting'!$F$7-'Score weighting'!$F$10-'Score weighting'!$E$7*'Chart Data'!M10^2)/'Score weighting'!$E$10)^0.5 -> 0.0079999998 | P10: =P$6-P$6/MAX($C10:$C20)*$C10 -> -5.477225 | Q10: =((P$5-'Score weighting'!$F$7-'Score weighting'!$F$10-'Score weighting'!$E$7*'Chart Data'!P10^2)/'Score weighting'!$E$10)^0.5 -> 0.0097979587 | S10: =S$6-S$6/MAX($C10:$C20)*$C10 -> -6.3245547 | T10: =((S$5-'Score weighting'!$F$7-'Score weighting'!$F$10-'Score weighting'!$E$7*'Chart Data'!S10^2)/'Score weighting'!$E$10)^0.5 -> 0.011313708 | V10: =V$6-V$6/MAX($C10:$C20)*$C10 -> -7.0710671 | W10: =((V$5-'Score weighting'!$F$7-'Score weighting'!$F$10-'Score weighting'!$E$7*'Chart Data'!V10^2)/'Score weighting'!$E$10)^0.5 -> 0.01264911
C11: 0.1 | D11: =D$6-D$6/MAX($C11:$C21)*$C11 -> -1.5653274 | E11: =((D$5-'Score weighting'!$F$7-'Score weighting'!$F$10-'Score weighting'!$E$7*'Chart Data'!D11^2)/'Score weighting'!$E$10)^0.5 -> 0.89218832 | G11: =G$6-G$6/MAX($C11:$C21)*$C11 -> -2.2137073 | H11: =((G$5-'Score weighting'!$F$7-'Score weighting'!$F$10-'Score weighting'!$E$7*'Chart Data'!G11^2)/'Score weighting'!$E$10)^0.5 -> 1.2617448 | J11: =J$6-J$6/MAX($C11:$C21)*$C11 -> -3.1306549 | K11: =((J$5-'Score weighting'!$F$7-'Score weighting'!$F$10-'Score weighting'!$E$7*'Chart Data'!J11^2)/'Score weighting'!$E$10)^0.5 -> 1.7843766 | M11: =M$6-M$6/MAX($C11:$C21)*$C11 -> -4.4274146 | N11: =((M$5-'Score weighting'!$F$7-'Score weighting'!$F$10-'Score weighting'!$E$7*'Chart Data'!M11^2)/'Score weighting'!$E$10)^0.5 -> 2.5234896 | P11: =P$6-P$6/MAX($C11:$C21)*$C11 -> -5.4224533 | Q11: =((P$5-'Score weighting'!$F$7-'Score weighting'!$F$10-'Score weighting'!$E$7*'Chart Data'!P11^2)/'Score weighting'!$E$10)^0.5 -> 3.090631 | S11: =S$6-S$6/MAX($C11:$C21)*$C11 -> -6.2613098 | T11: =((S$5-'Score weighting'!$F$7-'Score weighting'!$F$10-'Score weighting'!$E$7*'Chart Data'!S11^2)/'Score weighting'!$E$10)^0.5 -> 3.5687533 | V11: =V$6-V$6/MAX($C11:$C21)*$C11 -> -7.0003571 | W11: =((V$5-'Score weighting'!$F$7-'Score weighting'!$F$10-'Score weighting'!$E$7*'Chart Data'!V11^2)/'Score weighting'!$E$10)^0.5 -> 3.9899875
C12: 0.2 | D12: =D$6-D$6/MAX($C12:$C22)*$C12 -> -1.5495161 | E12: =((D$5-'Score weighting'!$F$7-'Score weighting'!$F$10-'Score weighting'!$E$7*'Chart Data'!D12^2)/'Score weighting'!$E$10)^0.5 -> 1.2585706 | G12: =G$6-G$6/MAX($C12:$C22)*$C12 -> -2.1913466 | H12: =((G$5-'Score weighting'!$F$7-'Score weighting'!$F$10-'Score weighting'!$E$7*'Chart Data'!G12^2)/'Score weighting'!$E$10)^0.5 -> 1.7798876 | J12: =J$6-J$6/MAX($C12:$C22)*$C12 -> -3.0990321 | K12: =((J$5-'Score weighting'!$F$7-'Score weighting'!$F$10-'Score weighting'!$E$7*'Chart Data'!J12^2)/'Score weighting'!$E$10)^0.5 -> 2.5171412 | M12: =M$6-M$6/MAX($C12:$C22)*$C12 -> -4.3826932 | N12: =((M$5-'Score weighting'!$F$7-'Score weighting'!$F$10-'Score weighting'!$E$7*'Chart Data'!M12^2)/'Score weighting'!$E$10)^0.5 -> 3.5597753 | P12: =P$6-P$6/MAX($C12:$C22)*$C12 -> -5.3676811 | Q12: =((P$5-'Score weighting'!$F$7-'Score weighting'!$F$10-'Score weighting'!$E$7*'Chart Data'!P12^2)/'Score weighting'!$E$10)^0.5 -> 4.3598165 | S12: =S$6-S$6/MAX($C12:$C22)*$C12 -> -6.1980642 | T12: =((S$5-'Score weighting'!$F$7-'Score weighting'!$F$10-'Score weighting'!$E$7*'Chart Data'!S12^2)/'Score weighting'!$E$10)^0.5 -> 5.0342825 | V12: =V$6-V$6/MAX($C12:$C22)*$C12 -> -6.9296465 | W12: =((V$5-'Score weighting'!$F$7-'Score weighting'!$F$10-'Score weighting'!$E$7*'Chart Data'!V12^2)/'Score weighting'!$E$10)^0.5 -> 5.6284989
C13: 0.4 | D13: =D$6-D$6/MAX($C13:$C23)*$C13 -> -1.5178933 | E13: =((D$5-'Score weighting'!$F$7-'Score weighting'!$F$10-'Score weighting'!$E$7*'Chart Data'!D13^2)/'Score weighting'!$E$10)^0.5 -> 1.7708755 | G13: =G$6-G$6/MAX($C13:$C23)*$C13 -> -2.1466253 | H13: =((G$5-'Score weighting'!$F$7-'Score weighting'!$F$10-'Score weighting'!$E$7*'Chart Data'!G13^2)/'Score weighting'!$E$10)^0.5 -> 2.5043961 | J13: =J$6-J$6/MAX($C13:$C23)*$C13 -> -3.0357866 | K13: =((J$5-'Score weighting'!$F$7-'Score weighting'!$F$10-'Score weighting'!$E$7*'Chart Data'!J13^2)/'Score weighting'!$E$10)^0.5 -> 3.541751 | M13: =M$6-M$6/MAX($C13:$C23)*$C13 -> -4.2932505 | N13: =((M$5-'Score weighting'!$F$7-'Score weighting'!$F$10-'Score weighting'!$E$7*'Chart Data'!M13^2)/'Score weighting'!$E$10)^0.5 -> 5.0087923 | P13: =P$6-P$6/MAX($C13:$C23)*$C13 -> -5.2581366 | Q13: =((P$5-'Score weighting'!$F$7-'Score weighting'!$F$10-'Score weighting'!$E$7*'Chart Data'!P13^2)/'Score weighting'!$E$10)^0.5 -> 6.1344926 | S13: =S$6-S$6/MAX($C13:$C23)*$C13 -> -6.0715731 | T13: =((S$5-'Score weighting'!$F$7-'Score weighting'!$F$10-'Score weighting'!$E$7*'Chart Data'!S13^2)/'Score weighting'!$E$10)^0.5 -> 7.083502 | V13: =V$6-V$6/MAX($C13:$C23)*$C13 -> -6.7882251 | W13: =((V$5-'Score weighting'!$F$7-'Score weighting'!$F$10-'Score weighting'!$E$7*'Chart Data'!V13^2)/'Score weighting'!$E$10)^0.5 -> 7.9195959
C14: 0.8 | D14: =D$6-D$6/MAX($C14:$C24)*$C14 -> -1.4546477 | E14: =((D$5-'Score weighting'!$F$7-'Score weighting'!$F$10-'Score weighting'!$E$7*'Chart Data'!D14^2)/'Score weighting'!$E$10)^0.5 -> 2.4787093 | G14: =G$6-G$6/MAX($C14:$C24)*$C14 -> -2.0571825 | H14: =((G$5-'Score weighting'!$F$7-'Score weighting'!$F$10-'Score weighting'!$E$7*'Chart Data'!G14^2)/'Score weighting'!$E$10)^0.5 -> 3.5054244 | J14: =J$6-J$6/MAX($C14:$C24)*$C14 -> -2.9092954 | K14: =((J$5-'Score weighting'!$F$7-'Score weighting'!$F$10-'Score weighting'!$E$7*'Chart Data'!J14^2)/'Score weighting'!$E$10)^0.5 -> 4.9574187 | M14: =M$6-M$6/MAX($C14:$C24)*$C14 -> -4.1143651 | N14: =((M$5-'Score weighting'!$F$7-'Score weighting'!$F$10-'Score weighting'!$E$7*'Chart Data'!M14^2)/'Score weighting'!$E$10)^0.5 -> 7.0108487 | P14: =P$6-P$6/MAX($C14:$C24)*$C14 -> -5.0390475 | Q14: =((P$5-'Score weighting'!$F$7-'Score weighting'!$F$10-'Score weighting'!$E$7*'Chart Data'!P14^2)/'Score weighting'!$E$10)^0.5 -> 8.586501 | S14: =S$6-S$6/MAX($C14:$C24)*$C14 -> -5.8185909 | T14: =((S$5-'Score weighting'!$F$7-'Score weighting'!$F$10-'Score weighting'!$E$7*'Chart Data'!S14^2)/'Score weighting'!$E$10)^0.5 -> 9.9148374 | V14: =V$6-V$6/MAX($C14:$C24)*$C14 -> -6.5053824 | W14: =((V$5-'Score weighting'!$F$7-'Score weighting'!$F$10-'Score weighting'!$E$7*'Chart Data'!V14^2)/'Score weighting'!$E$10)^0.5 -> 11.085125
C15: 2 | D15: =D$6-D$6/MAX($C15:$C25)*$C15 -> -1.2649111 | E15: =((D$5-'Score weighting'!$F$7-'Score weighting'!$F$10-'Score weighting'!$E$7*'Chart Data'!D15^2)/'Score weighting'!$E$10)^0.5 -> 3.7947332 | G15: =G$6-G$6/MAX($C15:$C25)*$C15 -> -1.7888544 | H15: =((G$5-'Score weighting'!$F$7-'Score weighting'!$F$10-'Score weighting'!$E$7*'Chart Data'!G15^2)/'Score weighting'!$E$10)^0.5 -> 5.3665631 | J15: =J$6-J$6/MAX($C15:$C25)*$C15 -> -2.5298221 | K15: =((J$5-'Score weighting'!$F$7-'Score weighting'!$F$10-'Score weighting'!$E$7*'Chart Data'!J15^2)/'Score weighting'!$E$10)^0.5 -> 7.5894664 | M15: =M$6-M$6/MAX($C15:$C25)*$C15 -> -3.5777088 | N15: =((M$5-'Score weighting'!$F$7-'Score weighting'!$F$10-'Score weighting'!$E$7*'Chart Data'!M15^2)/'Score weighting'!$E$10)^0.5 -> 10.733126 | P15: =P$6-P$6/MAX($C15:$C25)*$C15 -> -4.3817805 | Q15: =((P$5-'Score weighting'!$F$7-'Score weighting'!$F$10-'Score weighting'!$E$7*'Chart Data'!P15^2)/'Score weighting'!$E$10)^0.5 -> 13.145341 | S15: =S$6-S$6/MAX($C15:$C25)*$C15 -> -5.0596443 | T15: =((S$5-'Score weighting'!$F$7-'Score weighting'!$F$10-'Score weighting'!$E$7*'Chart Data'!S15^2)/'Score weighting'!$E$10)^0.5 -> 15.178933 | V15: =V$6-V$6/MAX($C15:$C25)*$C15 -> -5.6568542 | W15: =((V$5-'Score weighting'!$F$7-'Score weighting'!$F$10-'Score weighting'!$E$7*'Chart Data'!V15^2)/'Score weighting'!$E$10)^0.5 -> 16.970563
C16: 4 | D16: =D$6-D$6/MAX($C16:$C26)*$C16 -> -0.9486833 | E16: =((D$5-'Score weighting'!$F$7-'Score weighting'!$F$10-'Score weighting'!$E$7*'Chart Data'!D16^2)/'Score weighting'!$E$10)^0.5 -> 5.0596443 | G16: =G$6-G$6/MAX($C16:$C26)*$C16 -> -1.3416408 | H16: =((G$5-'Score weighting'!$F$7-'Score weighting'!$F$10-'Score weighting'!$E$7*'Chart Data'!G16^2)/'Score weighting'!$E$10)^0.5 -> 7.1554175 | J16: =J$6-J$6/MAX($C16:$C26)*$C16 -> -1.8973666 | K16: =((J$5-'Score weighting'!$F$7-'Score weighting'!$F$10-'Score weighting'!$E$7*'Chart Data'!J16^2)/'Score weighting'!$E$10)^0.5 -> 10.119289 | M16: =M$6-M$6/MAX($C16:$C26)*$C16 -> -2.6832816 | N16: =((M$5-'Score weighting'!$F$7-'Score weighting'!$F$10-'Score weighting'!$E$7*'Chart Data'!M16^2)/'Score weighting'!$E$10)^0.5 -> 14.310835 | P16: =P$6-P$6/MAX($C16:$C26)*$C16 -> -3.2863353 | Q16: =((P$5-'Score weighting'!$F$7-'Score weighting'!$F$10-'Score weighting'!$E$7*'Chart Data'!P16^2)/'Score weighting'!$E$10)^0.5 -> 17.527122 | S16: =S$6-S$6/MAX($C16:$C26)*$C16 -> -3.7947332 | T16: =((S$5-'Score weighting'!$F$7-'Score weighting'!$F$10-'Score weighting'!$E$7*'Chart Data'!S16^2)/'Score weighting'!$E$10)^0.5 -> 20.238577 | V16: =V$6-V$6/MAX($C16:$C26)*$C16 -> -4.2426407 | W16: =((V$5-'Score weighting'!$F$7-'Score weighting'!$F$10-'Score weighting'!$E$7*'Chart Data'!V16^2)/'Score weighting'!$E$10)^0.5 -> 22.627417
C17: 6 | D17: =D$6-D$6/MAX($C17:$C27)*$C17 -> -0.63245553 | E17: =((D$5-'Score weighting'!$F$7-'Score weighting'!$F$10-'Score weighting'!$E$7*'Chart Data'!D17^2)/'Score weighting'!$E$10)^0.5 -> 5.7965507 | G17: =G$6-G$6/MAX($C17:$C27)*$C17 -> -0.89442719 | H17: =((G$5-'Score weighting'!$F$7-'Score weighting'!$F$10-'Score weighting'!$E$7*'Chart Data'!G17^2)/'Score weighting'!$E$10)^0.5 -> 8.1975606 | J17: =J$6-J$6/MAX($C17:$C27)*$C17 -> -1.2649111 | K17: =((J$5-'Score weighting'!$F$7-'Score weighting'!$F$10-'Score weighting'!$E$7*'Chart Data'!J17^2)/'Score weighting'!$E$10)^0.5 -> 11.593101 | M17: =M$6-M$6/MAX($C17:$C27)*$C17 -> -1.7888544 | N17: =((M$5-'Score weighting'!$F$7-'Score weighting'!$F$10-'Score weighting'!$E$7*'Chart Data'!M17^2)/'Score weighting'!$E$10)^0.5 -> 16.395121 | P17: =P$6-P$6/MAX($C17:$C27)*$C17 -> -2.1908902 | Q17: =((P$5-'Score weighting'!$F$7-'Score weighting'!$F$10-'Score weighting'!$E$7*'Chart Data'!P17^2)/'Score weighting'!$E$10)^0.5 -> 20.079841 | S17: =S$6-S$6/MAX($C17:$C27)*$C17 -> -2.5298221 | T17: =((S$5-'Score weighting'!$F$7-'Score weighting'!$F$10-'Score weighting'!$E$7*'Chart Data'!S17^2)/'Score weighting'!$E$10)^0.5 -> 23.186203 | V17: =V$6-V$6/MAX($C17:$C27)*$C17 -> -2.8284271 | W17: =((V$5-'Score weighting'!$F$7-'Score weighting'!$F$10-'Score weighting'!$E$7*'Chart Data'!V17^2)/'Score weighting'!$E$10)^0.5 -> 25.922963
C18: 8 | D18: =D$6-D$6/MAX($C18:$C28)*$C18 -> -0.31622777 | E18: =((D$5-'Score weighting'!$F$7-'Score weighting'!$F$10-'Score weighting'!$E$7*'Chart Data'!D18^2)/'Score weighting'!$E$10)^0.5 -> 6.1967734 | G18: =G$6-G$6/MAX($C18:$C28)*$C18 -> -0.4472136 | H18: =((G$5-'Score weighting'!$F$7-'Score weighting'!$F$10-'Score weighting'!$E$7*'Chart Data'!G18^2)/'Score weighting'!$E$10)^0.5 -> 8.7635609 | J18: =J$6-J$6/MAX($C18:$C28)*$C18 -> -0.63245553 | K18: =((J$5-'Score weighting'!$F$7-'Score weighting'!$F$10-'Score weighting'!$E$7*'Chart Data'!J18^2)/'Score weighting'!$E$10)^0.5 -> 12.393547 | M18: =M$6-M$6/MAX($C18:$C28)*$C18 -> -0.89442719 | N18: =((M$5-'Score weighting'!$F$7-'Score weighting'!$F$10-'Score weighting'!$E$7*'Chart Data'!M18^2)/'Score weighting'!$E$10)^0.5 -> 17.527122 | P18: =P$6-P$6/MAX($C18:$C28)*$C18 -> -1.0954451 | Q18: =((P$5-'Score weighting'!$F$7-'Score weighting'!$F$10-'Score weighting'!$E$7*'Chart Data'!P18^2)/'Score weighting'!$E$10)^0.5 -> 21.466253 | S18: =S$6-S$6/MAX($C18:$C28)*$C18 -> -1.2649111 | T18: =((S$5-'Score weighting'!$F$7-'Score weighting'!$F$10-'Score weighting'!$E$7*'Chart Data'!S18^2)/'Score weighting'!$E$10)^0.5 -> 24.787093 | V18: =V$6-V$6/MAX($C18:$C28)*$C18 -> -1.4142136 | W18: =((V$5-'Score weighting'!$F$7-'Score weighting'!$F$10-'Score weighting'!$E$7*'Chart Data'!V18^2)/'Score weighting'!$E$10)^0.5 -> 27.712813
C19: 9 | D19: =D$6-D$6/MAX($C19:$C29)*$C19 -> -0.15811388 | E19: =((D$5-'Score weighting'!$F$7-'Score weighting'!$F$10-'Score weighting'!$E$7*'Chart Data'!D19^2)/'Score weighting'!$E$10)^0.5 -> 6.2928531 | G19: =G$6-G$6/MAX($C19:$C29)*$C19 -> -0.2236068 | H19: =((G$5-'Score weighting'!$F$7-'Score weighting'!$F$10-'Score weighting'!$E$7*'Chart Data'!G19^2)/'Score weighting'!$E$10)^0.5 -> 8.8994382 | J19: =J$6-J$6/MAX($C19:$C29)*$C19 -> -0.31622777 | K19: =((J$5-'Score weighting'!$F$7-'Score weighting'!$F$10-'Score weighting'!$E$7*'Chart Data'!J19^2)/'Score weighting'!$E$10)^0.5 -> 12.585706 | M19: =M$6-M$6/MAX($C19:$C29)*$C19 -> -0.4472136 | N19: =((M$5-'Score weighting'!$F$7-'Score weighting'!$F$10-'Score weighting'!$E$7*'Chart Data'!M19^2)/'Score weighting'!$E$10)^0.5 -> 17.798876 | P19: =P$6-P$6/MAX($C19:$C29)*$C19 -> -0.54772256 | Q19: =((P$5-'Score weighting'!$F$7-'Score weighting'!$F$10-'Score weighting'!$E$7*'Chart Data'!P19^2)/'Score weighting'!$E$10)^0.5 -> 21.799083 | S19: =S$6-S$6/MAX($C19:$C29)*$C19 -> -0.63245553 | T19: =((S$5-'Score weighting'!$F$7-'Score weighting'!$F$10-'Score weighting'!$E$7*'Chart Data'!S19^2)/'Score weighting'!$E$10)^0.5 -> 25.171412 | V19: =V$6-V$6/MAX($C19:$C29)*$C19 -> -0.70710678 | W19: =((V$5-'Score weighting'!$F$7-'Score weighting'!$F$10-'Score weighting'!$E$7*'Chart Data'!V19^2)/'Score weighting'!$E$10)^0.5 -> 28.142495
C20: 10 | D20: =D$6-D$6/MAX($C20:$C30)*$C20 -> 0 | E20: =((D$5-'Score weighting'!$F$7-'Score weighting'!$F$10-'Score weighting'!$E$7*'Chart Data'!D20^2)/'Score weighting'!$E$10)^0.5 -> 6.3245553 | G20: =G$6-G$6/MAX($C20:$C30)*$C20 -> 0 | H20: =((G$5-'Score weighting'!$F$7-'Score weighting'!$F$10-'Score weighting'!$E$7*'Chart Data'!G20^2)/'Score weighting'!$E$10)^0.5 -> 8.9442719 | J20: =J$6-J$6/MAX($C20:$C30)*$C20 -> 0 | K20: =((J$5-'Score weighting'!$F$7-'Score weighting'!$F$10-'Score weighting'!$E$7*'Chart Data'!J20^2)/'Score weighting'!$E$10)^0.5 -> 12.649111 | M20: =M$6-M$6/MAX($C20:$C30)*$C20 -> 0 | N20: =((M$5-'Score weighting'!$F$7-'Score weighting'!$F$10-'Score weighting'!$E$7*'Chart Data'!M20^2)/'Score weighting'!$E$10)^0.5 -> 17.888544 | P20: =P$6-P$6/MAX($C20:$C30)*$C20 -> 0 | Q20: =((P$5-'Score weighting'!$F$7-'Score weighting'!$F$10-'Score weighting'!$E$7*'Chart Data'!P20^2)/'Score weighting'!$E$10)^0.5 -> 21.908902 | S20: =S$6-S$6/MAX($C20:$C30)*$C20 -> 0 | T20: =((S$5-'Score weighting'!$F$7-'Score weighting'!$F$10-'Score weighting'!$E$7*'Chart Data'!S20^2)/'Score weighting'!$E$10)^0.5 -> 25.298221 | V20: =V$6-V$6/MAX($C20:$C30)*$C20 -> 0 | W20: =((V$5-'Score weighting'!$F$7-'Score weighting'!$F$10-'Score weighting'!$E$7*'Chart Data'!V20^2)/'Score weighting'!$E$10)^0.5 -> 28.284271
C22: 1e-05 | D22: =D$7/MAX($C22:$C32)*$C22 -> 9.4868235e-06 | E22: =((D$5-'Score weighting'!$F$4-'Score weighting'!$F$10-'Score weighting'!$E$4*'Chart Data'!D22^2)/'Score weighting'!$E$10)^0.5 -> 6.3245553 | G22: =G$7/MAX($C22:$C32)*$C22 -> 1.3416394e-05 | H22: =((G$5-'Score weighting'!$F$4-'Score weighting'!$F$10-'Score weighting'!$E$4*'Chart Data'!G22^2)/'Score weighting'!$E$10)^0.5 -> 8.9442719 | J22: =J$7/MAX($C22:$C32)*$C22 -> 1.8973647e-05 | K22: =((J$5-'Score weighting'!$F$4-'Score weighting'!$F$10-'Score weighting'!$E$4*'Chart Data'!J22^2)/'Score weighting'!$E$10)^0.5 -> 12.649111 | M22: =M$7/MAX($C22:$C32)*$C22 -> 2.6832789e-05 | N22: =((M$5-'Score weighting'!$F$4-'Score weighting'!$F$10-'Score weighting'!$E$4*'Chart Data'!M22^2)/'Score weighting'!$E$10)^0.5 -> 17.888544 | P22: =P$7/MAX($C22:$C32)*$C22 -> 3.2863321e-05 | Q22: =((P$5-'Score weighting'!$F$4-'Score weighting'!$F$10-'Score weighting'!$E$4*'Chart Data'!P22^2)/'Score weighting'!$E$10)^0.5 -> 21.908902 | S22: =S$7/MAX($C22:$C32)*$C22 -> 3.7947294e-05 | T22: =((S$5-'Score weighting'!$F$4-'Score weighting'!$F$10-'Score weighting'!$E$4*'Chart Data'!S22^2)/'Score weighting'!$E$10)^0.5 -> 25.298221 | V22: =V$7/MAX($C22:$C32)*$C22 -> 4.2426364e-05 | W22: =((V$5-'Score weighting'!$F$4-'Score weighting'!$F$10-'Score weighting'!$E$4*'Chart Data'!V22^2)/'Score weighting'!$E$10)^0.5 -> 28.284271
C23: 2 | D23: =D$7/MAX($C23:$C33)*$C23 -> 1.8973647 | E23: =((D$5-'Score weighting'!$F$4-'Score weighting'!$F$10-'Score weighting'!$E$4*'Chart Data'!D23^2)/'Score weighting'!$E$10)^0.5 -> 6.1967736 | G23: =G$7/MAX($C23:$C33)*$C23 -> 2.6832789 | H23: =((G$5-'Score weighting'!$F$4-'Score weighting'!$F$10-'Score weighting'!$E$4*'Chart Data'!G23^2)/'Score weighting'!$E$10)^0.5 -> 8.7635613 | J23: =J$7/MAX($C23:$C33)*$C23 -> 3.7947294 | K23: =((J$5-'Score weighting'!$F$4-'Score weighting'!$F$10-'Score weighting'!$E$4*'Chart Data'!J23^2)/'Score weighting'!$E$10)^0.5 -> 12.393547 | M23: =M$7/MAX($C23:$C33)*$C23 -> 5.3665578 | N23: =((M$5-'Score weighting'!$F$4-'Score weighting'!$F$10-'Score weighting'!$E$4*'Chart Data'!M23^2)/'Score weighting'!$E$10)^0.5 -> 17.527123 | P23: =P$7/MAX($C23:$C33)*$C23 -> 6.5726641 | Q23: =((P$5-'Score weighting'!$F$4-'Score weighting'!$F$10-'Score weighting'!$E$4*'Chart Data'!P23^2)/'Score weighting'!$E$10)^0.5 -> 21.466253 | S23: =S$7/MAX($C23:$C33)*$C23 -> 7.5894588 | T23: =((S$5-'Score weighting'!$F$4-'Score weighting'!$F$10-'Score weighting'!$E$4*'Chart Data'!S23^2)/'Score weighting'!$E$10)^0.5 -> 24.787094 | V23: =V$7/MAX($C23:$C33)*$C23 -> 8.4852729 | W23: =((V$5-'Score weighting'!$F$4-'Score weighting'!$F$10-'Score weighting'!$E$4*'Chart Data'!V23^2)/'Score weighting'!$E$10)^0.5 -> 27.712814
C24: 3 | D24: =D$7/MAX($C24:$C34)*$C24 -> 2.846047 | E24: =((D$5-'Score weighting'!$F$4-'Score weighting'!$F$10-'Score weighting'!$E$4*'Chart Data'!D24^2)/'Score weighting'!$E$10)^0.5 -> 6.0332418 | G24: =G$7/MAX($C24:$C34)*$C24 -> 4.0249183 | H24: =((G$5-'Score weighting'!$F$4-'Score weighting'!$F$10-'Score weighting'!$E$4*'Chart Data'!G24^2)/'Score weighting'!$E$10)^0.5 -> 8.5322924 | J24: =J$7/MAX($C24:$C34)*$C24 -> 5.6920941 | K24: =((J$5-'Score weighting'!$F$4-'Score weighting'!$F$10-'Score weighting'!$E$4*'Chart Data'!J24^2)/'Score weighting'!$E$10)^0.5 -> 12.066484 | M24: =M$7/MAX($C24:$C34)*$C24 -> 8.0498367 | N24: =((M$5-'Score weighting'!$F$4-'Score weighting'!$F$10-'Score weighting'!$E$4*'Chart Data'!M24^2)/'Score weighting'!$E$10)^0.5 -> 17.064585 | P24: =P$7/MAX($C24:$C34)*$C24 -> 9.8589962 | Q24: =((P$5-'Score weighting'!$F$4-'Score weighting'!$F$10-'Score weighting'!$E$4*'Chart Data'!P24^2)/'Score weighting'!$E$10)^0.5 -> 20.899763 | S24: =S$7/MAX($C24:$C34)*$C24 -> 11.384188 | T24: =((S$5-'Score weighting'!$F$4-'Score weighting'!$F$10-'Score weighting'!$E$4*'Chart Data'!S24^2)/'Score weighting'!$E$10)^0.5 -> 24.132967 | V24: =V$7/MAX($C24:$C34)*$C24 -> 12.727909 | W24: =((V$5-'Score weighting'!$F$4-'Score weighting'!$F$10-'Score weighting'!$E$4*'Chart Data'!V24^2)/'Score weighting'!$E$10)^0.5 -> 26.981478
C25: 5 | D25: =D$7/MAX($C25:$C35)*$C25 -> 4.7434117 | E25: =((D$5-'Score weighting'!$F$4-'Score weighting'!$F$10-'Score weighting'!$E$4*'Chart Data'!D25^2)/'Score weighting'!$E$10)^0.5 -> 5.4772274 | G25: =G$7/MAX($C25:$C35)*$C25 -> 6.7081972 | H25: =((G$5-'Score weighting'!$F$4-'Score weighting'!$F$10-'Score weighting'!$E$4*'Chart Data'!G25^2)/'Score weighting'!$E$10)^0.5 -> 7.7459693 | J25: =J$7/MAX($C25:$C35)*$C25 -> 9.4868235 | K25: =((J$5-'Score weighting'!$F$4-'Score weighting'!$F$10-'Score weighting'!$E$4*'Chart Data'!J25^2)/'Score weighting'!$E$10)^0.5 -> 10.954455 | M25: =M$7/MAX($C25:$C35)*$C25 -> 13.416394 | N25: =((M$5-'Score weighting'!$F$4-'Score weighting'!$F$10-'Score weighting'!$E$4*'Chart Data'!M25^2)/'Score weighting'!$E$10)^0.5 -> 15.491939 | P25: =P$7/MAX($C25:$C35)*$C25 -> 16.43166 | Q25: =((P$5-'Score weighting'!$F$4-'Score weighting'!$F$10-'Score weighting'!$E$4*'Chart Data'!P25^2)/'Score weighting'!$E$10)^0.5 -> 18.973672 | S25: =S$7/MAX($C25:$C35)*$C25 -> 18.973647 | T25: =((S$5-'Score weighting'!$F$4-'Score weighting'!$F$10-'Score weighting'!$E$4*'Chart Data'!S25^2)/'Score weighting'!$E$10)^0.5 -> 21.90891 | V25: =V$7/MAX($C25:$C35)*$C25 -> 21.213182 | W25: =((V$5-'Score weighting'!$F$4-'Score weighting'!$F$10-'Score weighting'!$E$4*'Chart Data'!V25^2)/'Score weighting'!$E$10)^0.5 -> 24.494906
C26: 7 | D26: =D$7/MAX($C26:$C36)*$C26 -> 6.6407764 | E26: =((D$5-'Score weighting'!$F$4-'Score weighting'!$F$10-'Score weighting'!$E$4*'Chart Data'!D26^2)/'Score weighting'!$E$10)^0.5 -> 4.5166403 | G26: =G$7/MAX($C26:$C36)*$C26 -> 9.3914761 | H26: =((G$5-'Score weighting'!$F$4-'Score weighting'!$F$10-'Score weighting'!$E$4*'Chart Data'!G26^2)/'Score weighting'!$E$10)^0.5 -> 6.3874939 | J26: =J$7/MAX($C26:$C36)*$C26 -> 13.281553 | K26: =((J$5-'Score weighting'!$F$4-'Score weighting'!$F$10-'Score weighting'!$E$4*'Chart Data'!J26^2)/'Score weighting'!$E$10)^0.5 -> 9.0332805 | M26: =M$7/MAX($C26:$C36)*$C26 -> 18.782952 | N26: =((M$5-'Score weighting'!$F$4-'Score weighting'!$F$10-'Score weighting'!$E$4*'Chart Data'!M26^2)/'Score weighting'!$E$10)^0.5 -> 12.774988 | P26: =P$7/MAX($C26:$C36)*$C26 -> 23.004324 | Q26: =((P$5-'Score weighting'!$F$4-'Score weighting'!$F$10-'Score weighting'!$E$4*'Chart Data'!P26^2)/'Score weighting'!$E$10)^0.5 -> 15.646101 | S26: =S$7/MAX($C26:$C36)*$C26 -> 26.563106 | T26: =((S$5-'Score weighting'!$F$4-'Score weighting'!$F$10-'Score weighting'!$E$4*'Chart Data'!S26^2)/'Score weighting'!$E$10)^0.5 -> 18.066561 | V26: =V$7/MAX($C26:$C36)*$C26 -> 29.698455 | W26: =((V$5-'Score weighting'!$F$4-'Score weighting'!$F$10-'Score weighting'!$E$4*'Chart Data'!V26^2)/'Score weighting'!$E$10)^0.5 -> 20.199029
C27: 8 | D27: =D$7/MAX($C27:$C37)*$C27 -> 7.5894588 | E27: =((D$5-'Score weighting'!$F$4-'Score weighting'!$F$10-'Score weighting'!$E$4*'Chart Data'!D27^2)/'Score weighting'!$E$10)^0.5 -> 3.7947399 | G27: =G$7/MAX($C27:$C37)*$C27 -> 10.733116 | H27: =((G$5-'Score weighting'!$F$4-'Score weighting'!$F$10-'Score weighting'!$E$4*'Chart Data'!G27^2)/'Score weighting'!$E$10)^0.5 -> 5.3665727 | J27: =J$7/MAX($C27:$C37)*$C27 -> 15.178918 | K27: =((J$5-'Score weighting'!$F$4-'Score weighting'!$F$10-'Score weighting'!$E$4*'Chart Data'!J27^2)/'Score weighting'!$E$10)^0.5 -> 7.5894799 | M27: =M$7/MAX($C27:$C37)*$C27 -> 21.466231 | N27: =((M$5-'Score weighting'!$F$4-'Score weighting'!$F$10-'Score weighting'!$E$4*'Chart Data'!M27^2)/'Score weighting'!$E$10)^0.5 -> 10.733145 | P27: =P$7/MAX($C27:$C37)*$C27 -> 26.290656 | Q27: =((P$5-'Score weighting'!$F$4-'Score weighting'!$F$10-'Score weighting'!$E$4*'Chart Data'!P27^2)/'Score weighting'!$E$10)^0.5 -> 13.145365 | S27: =S$7/MAX($C27:$C37)*$C27 -> 30.357835 | T27: =((S$5-'Score weighting'!$F$4-'Score weighting'!$F$10-'Score weighting'!$E$4*'Chart Data'!S27^2)/'Score weighting'!$E$10)^0.5 -> 15.17896 | V27: =V$7/MAX($C27:$C37)*$C27 -> 33.941092 | W27: =((V$5-'Score weighting'!$F$4-'Score weighting'!$F$10-'Score weighting'!$E$4*'Chart Data'!V27^2)/'Score weighting'!$E$10)^0.5 -> 16.970593
C28: 9.2 | D28: =D$7/MAX($C28:$C38)*$C28 -> 8.7278776 | E28: =((D$5-'Score weighting'!$F$4-'Score weighting'!$F$10-'Score weighting'!$E$4*'Chart Data'!D28^2)/'Score weighting'!$E$10)^0.5 -> 2.478723 | G28: =G$7/MAX($C28:$C38)*$C28 -> 12.343083 | H28: =((G$5-'Score weighting'!$F$4-'Score weighting'!$F$10-'Score weighting'!$E$4*'Chart Data'!G28^2)/'Score weighting'!$E$10)^0.5 -> 3.5054437 | J28: =J$7/MAX($C28:$C38)*$C28 -> 17.455755 | K28: =((J$5-'Score weighting'!$F$4-'Score weighting'!$F$10-'Score weighting'!$E$4*'Chart Data'!J28^2)/'Score weighting'!$E$10)^0.5 -> 4.957446 | M28: =M$7/MAX($C28:$C38)*$C28 -> 24.686166 | N28: =((M$5-'Score weighting'!$F$4-'Score weighting'!$F$10-'Score weighting'!$E$4*'Chart Data'!M28^2)/'Score weighting'!$E$10)^0.5 -> 7.0108874 | P28: =P$7/MAX($C28:$C38)*$C28 -> 30.234255 | Q28: =((P$5-'Score weighting'!$F$4-'Score weighting'!$F$10-'Score weighting'!$E$4*'Chart Data'!P28^2)/'Score weighting'!$E$10)^0.5 -> 8.5865483 | S28: =S$7/MAX($C28:$C38)*$C28 -> 34.91151 | T28: =((S$5-'Score weighting'!$F$4-'Score weighting'!$F$10-'Score weighting'!$E$4*'Chart Data'!S28^2)/'Score weighting'!$E$10)^0.5 -> 9.914892 | V28: =V$7/MAX($C28:$C38)*$C28 -> 39.032255 | W28: =((V$5-'Score weighting'!$F$4-'Score weighting'!$F$10-'Score weighting'!$E$4*'Chart Data'!V28^2)/'Score weighting'!$E$10)^0.5 -> 11.085186
C29: 9.6 | D29: =D$7/MAX($C29:$C39)*$C29 -> 9.1073506 | E29: =((D$5-'Score weighting'!$F$4-'Score weighting'!$F$10-'Score weighting'!$E$4*'Chart Data'!D29^2)/'Score weighting'!$E$10)^0.5 -> 1.7708963 | G29: =G$7/MAX($C29:$C39)*$C29 -> 12.879739 | H29: =((G$5-'Score weighting'!$F$4-'Score weighting'!$F$10-'Score weighting'!$E$4*'Chart Data'!G29^2)/'Score weighting'!$E$10)^0.5 -> 2.5044256 | J29: =J$7/MAX($C29:$C39)*$C29 -> 18.214701 | K29: =((J$5-'Score weighting'!$F$4-'Score weighting'!$F$10-'Score weighting'!$E$4*'Chart Data'!J29^2)/'Score weighting'!$E$10)^0.5 -> 3.5417926 | M29: =M$7/MAX($C29:$C39)*$C29 -> 25.759477 | N29: =((M$5-'Score weighting'!$F$4-'Score weighting'!$F$10-'Score weighting'!$E$4*'Chart Data'!M29^2)/'Score weighting'!$E$10)^0.5 -> 5.0088511 | P29: =P$7/MAX($C29:$C39)*$C29 -> 31.548788 | Q29: =((P$5-'Score weighting'!$F$4-'Score weighting'!$F$10-'Score weighting'!$E$4*'Chart Data'!P29^2)/'Score weighting'!$E$10)^0.5 -> 6.1345648 | S29: =S$7/MAX($C29:$C39)*$C29 -> 36.429402 | T29: =((S$5-'Score weighting'!$F$4-'Score weighting'!$F$10-'Score weighting'!$E$4*'Chart Data'!S29^2)/'Score weighting'!$E$10)^0.5 -> 7.0835852 | V29: =V$7/MAX($C29:$C39)*$C29 -> 40.72931 | W29: =((V$5-'Score weighting'!$F$4-'Score weighting'!$F$10-'Score weighting'!$E$4*'Chart Data'!V29^2)/'Score weighting'!$E$10)^0.5 -> 7.919689
C30: 9.8 | D30: =D$7/MAX($C30:$C40)*$C30 -> 9.297087 | E30: =((D$5-'Score weighting'!$F$4-'Score weighting'!$F$10-'Score weighting'!$E$4*'Chart Data'!D30^2)/'Score weighting'!$E$10)^0.5 -> 1.2586011 | G30: =G$7/MAX($C30:$C40)*$C30 -> 13.148067 | H30: =((G$5-'Score weighting'!$F$4-'Score weighting'!$F$10-'Score weighting'!$E$4*'Chart Data'!G30^2)/'Score weighting'!$E$10)^0.5 -> 1.7799308 | J30: =J$7/MAX($C30:$C40)*$C30 -> 18.594174 | K30: =((J$5-'Score weighting'!$F$4-'Score weighting'!$F$10-'Score weighting'!$E$4*'Chart Data'!J30^2)/'Score weighting'!$E$10)^0.5 -> 2.5172023 | M30: =M$7/MAX($C30:$C40)*$C30 -> 26.296133 | N30: =((M$5-'Score weighting'!$F$4-'Score weighting'!$F$10-'Score weighting'!$E$4*'Chart Data'!M30^2)/'Score weighting'!$E$10)^0.5 -> 3.5598616 | P30: =P$7/MAX($C30:$C40)*$C30 -> 32.206054 | Q30: =((P$5-'Score weighting'!$F$4-'Score weighting'!$F$10-'Score weighting'!$E$4*'Chart Data'!P30^2)/'Score weighting'!$E$10)^0.5 -> 4.3599222 | S30: =S$7/MAX($C30:$C40)*$C30 -> 37.188348 | T30: =((S$5-'Score weighting'!$F$4-'Score weighting'!$F$10-'Score weighting'!$E$4*'Chart Data'!S30^2)/'Score weighting'!$E$10)^0.5 -> 5.0344046 | V30: =V$7/MAX($C30:$C40)*$C30 -> 41.577837 | W30: =((V$5-'Score weighting'!$F$4-'Score weighting'!$F$10-'Score weighting'!$E$4*'Chart Data'!V30^2)/'Score weighting'!$E$10)^0.5 -> 5.6286354
C31: 9.9 | D31: =D$7/MAX($C31:$C41)*$C31 -> 9.3919553 | E31: =((D$5-'Score weighting'!$F$4-'Score weighting'!$F$10-'Score weighting'!$E$4*'Chart Data'!D31^2)/'Score weighting'!$E$10)^0.5 -> 0.89223226 | G31: =G$7/MAX($C31:$C41)*$C31 -> 13.282231 | H31: =((G$5-'Score weighting'!$F$4-'Score weighting'!$F$10-'Score weighting'!$E$4*'Chart Data'!G31^2)/'Score weighting'!$E$10)^0.5 -> 1.261807 | J31: =J$7/MAX($C31:$C41)*$C31 -> 18.783911 | K31: =((J$5-'Score weighting'!$F$4-'Score weighting'!$F$10-'Score weighting'!$E$4*'Chart Data'!J31^2)/'Score weighting'!$E$10)^0.5 -> 1.7844645 | M31: =M$7/MAX($C31:$C41)*$C31 -> 26.564461 | N31: =((M$5-'Score weighting'!$F$4-'Score weighting'!$F$10-'Score weighting'!$E$4*'Chart Data'!M31^2)/'Score weighting'!$E$10)^0.5 -> 2.5236139 | P31: =P$7/MAX($C31:$C41)*$C31 -> 32.534687 | Q31: =((P$5-'Score weighting'!$F$4-'Score weighting'!$F$10-'Score weighting'!$E$4*'Chart Data'!P31^2)/'Score weighting'!$E$10)^0.5 -> 3.0907832 | S31: =S$7/MAX($C31:$C41)*$C31 -> 37.567821 | T31: =((S$5-'Score weighting'!$F$4-'Score weighting'!$F$10-'Score weighting'!$E$4*'Chart Data'!S31^2)/'Score weighting'!$E$10)^0.5 -> 3.568929 | V31: =V$7/MAX($C31:$C41)*$C31 -> 42.002101 | W31: =((V$5-'Score weighting'!$F$4-'Score weighting'!$F$10-'Score weighting'!$E$4*'Chart Data'!V31^2)/'Score weighting'!$E$10)^0.5 -> 3.990184
C32: 10.00001 | D32: =D$7/MAX($C32:$C42)*$C32 -> 9.486833 | E32: =((D$5-'Score weighting'!$F$4-'Score weighting'!$F$10-'Score weighting'!$E$4*'Chart Data'!D32^2)/'Score weighting'!$E$10)^0.5 -> 0 | G32: =G$7/MAX($C32:$C42)*$C32 -> 13.416408 | H32: =((G$5-'Score weighting'!$F$4-'Score weighting'!$F$10-'Score weighting'!$E$4*'Chart Data'!G32^2)/'Score weighting'!$E$10)^0.5 -> 1.1920929e-07 | J32: =J$7/MAX($C32:$C42)*$C32 -> 18.973666 | K32: =((J$5-'Score weighting'!$F$4-'Score weighting'!$F$10-'Score weighting'!$E$4*'Chart Data'!J32^2)/'Score weighting'!$E$10)^0.5 -> 0 | M32: =M$7/MAX($C32:$C42)*$C32 -> 26.832816 | N32: =((M$5-'Score weighting'!$F$4-'Score weighting'!$F$10-'Score weighting'!$E$4*'Chart Data'!M32^2)/'Score weighting'!$E$10)^0.5 -> 2.3841858e-07 | P32: =P$7/MAX($C32:$C42)*$C32 -> 32.863353 | Q32: =((P$5-'Score weighting'!$F$4-'Score weighting'!$F$10-'Score weighting'!$E$4*'Chart Data'!P32^2)/'Score weighting'!$E$10)^0.5 -> 0 | S32: =S$7/MAX($C32:$C42)*$C32 -> 37.947332 | T32: =((S$5-'Score weighting'!$F$4-'Score weighting'!$F$10-'Score weighting'!$E$4*'Chart Data'!S32^2)/'Score weighting'!$E$10)^0.5 -> 0 | V32: =V$7/MAX($C32:$C42)*$C32 -> 42.426407 | W32: =((V$5-'Score weighting'!$F$4-'Score weighting'!$F$10-'Score weighting'!$E$4*'Chart Data'!V32^2)/'Score weighting'!$E$10)^0.5 -> 0
D34: =D10 -> -1.5811387 | E34: =-E10 -> -0.0028284271 | G34: =G10 -> -2.2360678 | H34: =-H10 -> -0.0039999999 | J34: =J10 -> -3.1622773 | K34: =-K10 -> -0.0056568541 | M34: =M10 -> -4.4721355 | N34: =-N10 -> -0.0079999998 | P34: =P10 -> -5.477225 | Q34: =-Q10 -> -0.0097979587 | S34: =S10 -> -6.3245547 | T34: =-T10 -> -0.011313708 | V34: =V10 -> -7.0710671 | W34: =-W10 -> -0.01264911
D35: =D11 -> -1.5653274 | E35: =-E11 -> -0.89218832 | G35: =G11 -> -2.2137073 | H35: =-H11 -> -1.2617448 | J35: =J11 -> -3.1306549 | K35: =-K11 -> -1.7843766 | M35: =M11 -> -4.4274146 | N35: =-N11 -> -2.5234896 | P35: =P11 -> -5.4224533 | Q35: =-Q11 -> -3.090631 | S35: =S11 -> -6.2613098 | T35: =-T11 -> -3.5687533 | V35: =V11 -> -7.0003571 | W35: =-W11 -> -3.9899875
D36: =D12 -> -1.5495161 | E36: =-E12 -> -1.2585706 | G36: =G12 -> -2.1913466 | H36: =-H12 -> -1.7798876 | J36: =J12 -> -3.0990321 | K36: =-K12 -> -2.5171412 | M36: =M12 -> -4.3826932 | N36: =-N12 -> -3.5597753 | P36: =P12 -> -5.3676811 | Q36: =-Q12 -> -4.3598165 | S36: =S12 -> -6.1980642 | T36: =-T12 -> -5.0342825 | V36: =V12 -> -6.9296465 | W36: =-W12 -> -5.6284989
D37: =D13 -> -1.5178933 | E37: =-E13 -> -1.7708755 | G37: =G13 -> -2.1466253 | H37: =-H13 -> -2.5043961 | J37: =J13 -> -3.0357866 | K37: =-K13 -> -3.541751 | M37: =M13 -> -4.2932505 | N37: =-N13 -> -5.0087923 | P37: =P13 -> -5.2581366 | Q37: =-Q13 -> -6.1344926 | S37: =S13 -> -6.0715731 | T37: =-T13 -> -7.083502 | V37: =V13 -> -6.7882251 | W37: =-W13 -> -7.9195959
D38: =D14 -> -1.4546477 | E38: =-E14 -> -2.4787093 | G38: =G14 -> -2.0571825 | H38: =-H14 -> -3.5054244 | J38: =J14 -> -2.9092954 | K38: =-K14 -> -4.9574187 | M38: =M14 -> -4.1143651 | N38: =-N14 -> -7.0108487 | P38: =P14 -> -5.0390475 | Q38: =-Q14 -> -8.586501 | S38: =S14 -> -5.8185909 | T38: =-T14 -> -9.9148374 | V38: =V14 -> -6.5053824 | W38: =-W14 -> -11.085125
D39: =D15 -> -1.2649111 | E39: =-E15 -> -3.7947332 | G39: =G15 -> -1.7888544 | H39: =-H15 -> -5.3665631 | J39: =J15 -> -2.5298221 | K39: =-K15 -> -7.5894664 | M39: =M15 -> -3.5777088 | N39: =-N15 -> -10.733126 | P39: =P15 -> -4.3817805 | Q39: =-Q15 -> -13.145341 | S39: =S15 -> -5.0596443 | T39: =-T15 -> -15.178933 | V39: =V15 -> -5.6568542 | W39: =-W15 -> -16.970563
D40: =D16 -> -0.9486833 | E40: =-E16 -> -5.0596443 | G40: =G16 -> -1.3416408 | H40: =-H16 -> -7.1554175 | J40: =J16 -> -1.8973666 | K40: =-K16 -> -10.119289 | M40: =M16 -> -2.6832816 | N40: =-N16 -> -14.310835 | P40: =P16 -> -3.2863353 | Q40: =-Q16 -> -17.527122 | S40: =S16 -> -3.7947332 | T40: =-T16 -> -20.238577 | V40: =V16 -> -4.2426407 | W40: =-W16 -> -22.627417
D41: =D17 -> -0.63245553 | E41: =-E17 -> -5.7965507 | G41: =G17 -> -0.89442719 | H41: =-H17 -> -8.1975606 | J41: =J17 -> -1.2649111 | K41: =-K17 -> -11.593101 | M41: =M17 -> -1.7888544 | N41: =-N17 -> -16.395121 | P41: =P17 -> -2.1908902 | Q41: =-Q17 -> -20.079841 | S41: =S17 -> -2.5298221 | T41: =-T17 -> -23.186203 | V41: =V17 -> -2.8284271 | W41: =-W17 -> -25.922963
D42: =D18 -> -0.31622777 | E42: =-E18 -> -6.1967734 | G42: =G18 -> -0.4472136 | H42: =-H18 -> -8.7635609 | J42: =J18 -> -0.63245553 | K42: =-K18 -> -12.393547 | M42: =M18 -> -0.89442719 | N42: =-N18 -> -17.527122 | P42: =P18 -> -1.0954451 | Q42: =-Q18 -> -21.466253 | S42: =S18 -> -1.2649111 | T42: =-T18 -> -24.787093 | V42: =V18 -> -1.4142136 | W42: =-W18 -> -27.712813
D43: =D19 -> -0.15811388 | E43: =-E19 -> -6.2928531 | G43: =G19 -> -0.2236068 | H43: =-H19 -> -8.8994382 | J43: =J19 -> -0.31622777 | K43: =-K19 -> -12.585706 | M43: =M19 -> -0.4472136 | N43: =-N19 -> -17.798876 | P43: =P19 -> -0.54772256 | Q43: =-Q19 -> -21.799083 | S43: =S19 -> -0.63245553 | T43: =-T19 -> -25.171412 | V43: =V19 -> -0.70710678 | W43: =-W19 -> -28.142495
D44: =D20 -> 0 | E44: =-E20 -> -6.3245553 | G44: =G20 -> 0 | H44: =-H20 -> -8.9442719 | J44: =J20 -> 0 | K44: =-K20 -> -12.649111 | M44: =M20 -> 0 | N44: =-N20 -> -17.888544 | P44: =P20 -> 0 | Q44: =-Q20 -> -21.908902 | S44: =S20 -> 0 | T44: =-T20 -> -25.298221 | V44: =V20 -> 0 | W44: =-W20 -> -28.284271
D46: =D22 -> 9.4868235e-06 | E46: =-E22 -> -6.3245553 | G46: =G22 -> 1.3416394e-05 | H46: =-H22 -> -8.9442719 | J46: =J22 -> 1.8973647e-05 | K46: =-K22 -> -12.649111 | M46: =M22 -> 2.6832789e-05 | N46: =-N22 -> -17.888544 | P46: =P22 -> 3.2863321e-05 | Q46: =-Q22 -> -21.908902 | S46: =S22 -> 3.7947294e-05 | T46: =-T22 -> -25.298221 | V46: =V22 -> 4.2426364e-05 | W46: =-W22 -> -28.284271
... D56: =D32 -> 9.486833 | E56: =-E32 -> 0 | G56: =G32 -> 13.416408 | H56: =-H32 -> -1.1920929e-07 | J56: =J32 -> 18.973666 | K56: =-K32 -> 0 | M56: =M32 -> 26.832816 | N56: =-N32 -> -2.3841858e-07 | P56: =P32 -> 32.863353 | Q56: =-Q32 -> 0 | S56: =S32 -> 37.947332 | T56: =-T32 -> 0 | V56: =V32 -> 42.426407 | W56: =-W32 -> 0
C60: 95 | D60: =D26 -> 6.6407764 | E60: =E26 -> 4.5166403 | F60: =F26 -> 0 | I60: =I26 -> 0 | L60: =L26 -> 0 | O60: =O26 -> 0 | R60: =R26 -> 0 | U60: =U26 -> 0
C61: 90 | D61: =G26 -> 9.3914761 | E61: =H26 -> 6.3874939
C62: 80 | D62: =J26 -> 13.281553 | E62: =K26 -> 9.0332805
C63: 60 | D63: =M26 -> 18.782952 | E63: =N26 -> 12.774988
C64: 40 | D64: =P26 -> 23.004324 | E64: =Q26 -> 15.646101
C65: 20 | D65: =S26 -> 26.563106 | E65: =T26 -> 18.066561
C66: 0 | D66: =V26 -> 29.698455 | E66: =W26 -> 20.199029
